BEGIN:VCALENDAR
VERSION:2.0
PRODID:-//Beweegsaam - ECPv6.15.20//NONSGML v1.0//EN
CALSCALE:GREGORIAN
METHOD:PUBLISH
X-ORIGINAL-URL:https://beweegsaam.nl
X-WR-CALDESC:Evenementen voor Beweegsaam
REFRESH-INTERVAL;VALUE=DURATION:PT1H
X-Robots-Tag:noindex
X-PUBLISHED-TTL:PT1H
BEGIN:VTIMEZONE
TZID:Europe/Amsterdam
BEGIN:DAYLIGHT
TZOFFSETFROM:+0100
TZOFFSETTO:+0200
TZNAME:CEST
DTSTART:20150329T010000
END:DAYLIGHT
BEGIN:STANDARD
TZOFFSETFROM:+0200
TZOFFSETTO:+0100
TZNAME:CET
DTSTART:20151025T010000
END:STANDARD
BEGIN:DAYLIGHT
TZOFFSETFROM:+0100
TZOFFSETTO:+0200
TZNAME:CEST
DTSTART:20160327T010000
END:DAYLIGHT
BEGIN:STANDARD
TZOFFSETFROM:+0200
TZOFFSETTO:+0100
TZNAME:CET
DTSTART:20161030T010000
END:STANDARD
BEGIN:DAYLIGHT
TZOFFSETFROM:+0100
TZOFFSETTO:+0200
TZNAME:CEST
DTSTART:20170326T010000
END:DAYLIGHT
BEGIN:STANDARD
TZOFFSETFROM:+0200
TZOFFSETTO:+0100
TZNAME:CET
DTSTART:20171029T010000
END:STANDARD
BEGIN:DAYLIGHT
TZOFFSETFROM:+0100
TZOFFSETTO:+0200
TZNAME:CEST
DTSTART:20180325T010000
END:DAYLIGHT
BEGIN:STANDARD
TZOFFSETFROM:+0200
TZOFFSETTO:+0100
TZNAME:CET
DTSTART:20181028T010000
END:STANDARD
BEGIN:DAYLIGHT
TZOFFSETFROM:+0100
TZOFFSETTO:+0200
TZNAME:CEST
DTSTART:20190331T010000
END:DAYLIGHT
BEGIN:STANDARD
TZOFFSETFROM:+0200
TZOFFSETTO:+0100
TZNAME:CET
DTSTART:20191027T010000
END:STANDARD
END:VTIMEZONE
BEGIN:VEVENT
DTSTART;VALUE=DATE:20180101
DTEND;VALUE=DATE:20180201
DTSTAMP:20260421T221808
CREATED:20180102T134013Z
LAST-MODIFIED:20180102T134029Z
UID:2895-1514764800-1517443199@beweegsaam.nl
SUMMARY:2018 ACTIE!
DESCRIPTION:SPONSOR JEZELF\, JIJ BENT HET GOEDE DOEL VAN 2018! \nJanuari is dé maand waarin jij het verschil kunt maken voor jouw kostbare 2018-beweeg-carrière. Per deelname in januari\, sponsor jij jezelf voor de rest van het jaar. GO FOR IT! \n  \nDE ACTIE\nHoe fanatieker jij het jaar aftrapt\, des te meer voordeel jij haalt uit deze actie* én jouw sportieve doel. Iedere keer dat je sport in de maand januari\, sponsor jij jezelf:\n• €4\,- per deelname > 3 maanden abonnement\n• €6\,- per deelname > 1/2 jaar abonnement\n• €8\,- per deelname > 1 jaar abonnement \n\n*inclusief aanmeldkosten\n*abonnement = onbeperkt sporten\n*alleen geldig voor nog-niet-leden \n  \nVOORBEELD\nLo is in de maand januari 6 keer gaan sporten bij Beweegsaam en kiest vanaf februari voor een 1/2 jaar abonnement. Zij heeft daarmee 6x €5\,- gespaard en ontvangt €30\,- euro korting op haar 1/2 jaar abonnement. \n  \nTOCH NIET LID\nBeslis jij na de maand januari niet lid te worden? Dan betaal jij jouw aanwezigheid als losse lessen en gaat de opbrengst naar Beweegsaampjes > Bootcamp KIDS -KAMP! \n  \nAANMELDEN\n> meld je aan door te mailen naar info@beweegsaam.nl of App/bel naar 06-34693392\n> vermeld wanneer in januari jij wilt starten\n> proef\, ervaar\, beslis\, beweeg! \n  \nMeld je aan\, daag ook die ander uit en Beweegsaam! \nEen vraag? Neem gerust contact op. \n  \nTot bij de training! 
URL:https://beweegsaam.nl/agenda-item/2018-actie/
LOCATION:Overijssel
ATTACH;FMTTYPE=image/jpeg:https://beweegsaam.nl/wp-content/uploads/2018/01/AGENDA-WEB.jpg
END:VEVENT
BEGIN:VEVENT
DTSTART;TZID=Europe/Amsterdam:20171202T093000
DTEND;TZID=Europe/Amsterdam:20171202T120000
DTSTAMP:20260421T221808
CREATED:20171126T183350Z
LAST-MODIFIED:20171126T183717Z
UID:2865-1512207000-1512216000@beweegsaam.nl
SUMMARY:FEESTSAAM!
DESCRIPTION:FEESTSAAM > VERJAARSAAM! \n  \nZaterdag 2 december:\nLO IS JARIG > 25 jaar in beweging\nTijd voor feest & JIJ BENT WELKOM! \n  \nWATSAAM\n09:30-10:30 uur > SPORT\n10:30-12:00 uur > TAART\n> vrijblijvend te komen wanneer je wilt\n> ook niet-Beweegsaam-leden zijn welkom!\n> deelname gratis \nSPORTSAAM\nWie: jong & ouder (vanaf 4 jaar)\nWat: Bootcamp (voor ieder niveau uitdagend) \nTAARTSAAM\nWie: iedereen\nKom gezellig proosten en smikkelen! \nWAARSAAM\nKinderopvang Eigen Wijs\, Frankhuizerallee 1C \nKOMSAAM\nGraag hoor ik óf en welk deel(en) je komt\n> info@beweegsaam.nl\n> 06-34693392 \nVIERSAAM\nKadotip > jouw aanwezigheid! \n  \nIk hoop tot de 2e van december!
URL:https://beweegsaam.nl/agenda-item/feestsaam/
LOCATION:Kinderopvang Eigen Wijs\, Frankhuizerallee 1c\, Zwolle\, Nederland
ATTACH;FMTTYPE=image/jpeg:https://beweegsaam.nl/wp-content/uploads/2017/11/30FCA2DE-73C8-4A12-83D9-984C2F01BCA5.jpeg
END:VEVENT
BEGIN:VEVENT
DTSTART;TZID=Europe/Amsterdam:20171128T153000
DTEND;TZID=Europe/Amsterdam:20171128T174500
DTSTAMP:20260421T221808
CREATED:20171123T153637Z
LAST-MODIFIED:20171128T203311Z
UID:2837-1511883000-1511891100@beweegsaam.nl
SUMMARY:BEWEEGSAAMPJES CREATIEF
DESCRIPTION:‘ZIE GINDS KOMT BEWEEGSAAMPJES\, JE ZIET HET HIER STAAN!’ \n  \nBeweegsaampjes CREATIEF; samen mooie dingen maken en dit keer rondom het thema SINTERKLAAS. Het belooft een gezellig en creatief feest te worden. Kom je ook? \n  \n\nDatum: woensdag 28 november \n\nThema: SINTERKLAAS \n\nLeef/-tijd: 15:30-16:30\, groep 3\,4\,5 / 16:45-17:45\, groep 6\,7\,8 \n\nAantal: 10 kids per uur (VOL=VOL!) \n\nLocatie: Voorsterweg 45\, Westenholte \n\nKosten: €7\,50 pp (incl. materiaal & lekkers) \n\n  \nNodig je vriendjes en vriendinnetjes uit en kom gezellig saam! \n  \nAanmelden:\n> info@beweegsaam.nl\n> 06-34693392 \nTot woensdag!
URL:https://beweegsaam.nl/agenda-item/beweegsaampjes-creatief/
LOCATION:Voorsterweg 45\, Voorsterweg 45\, Zwolle\, Overijssel\, 8042AA\, Nederland
CATEGORIES:kids
ATTACH;FMTTYPE=image/jpeg:https://beweegsaam.nl/wp-content/uploads/2017/11/0BFD5363-5A01-40A4-AA75-A4A3DF49CB06.jpeg
END:VEVENT
BEGIN:VEVENT
DTSTART;VALUE=DATE:20171103
DTEND;VALUE=DATE:20171104
DTSTAMP:20260421T221808
CREATED:20171031T160312Z
LAST-MODIFIED:20171031T160743Z
UID:2783-1509667200-1509753599@beweegsaam.nl
SUMMARY:Zwolse Ladies Run
DESCRIPTION:Doe mee aan de tweede editie Zwolse Ladies Run op vrijdagavond 3 november 2017!\nBen jij toe aan een leuk sportief avondje uit? Meld je dan aan voor dé Ladies Run en loop het mooie parcours dwars door de binnenstad van Zwolle! Na het behalen van de finish is er nog gelegenheid voor een gezellig drankje in één van de cafés in het centrum van Zwolle.\n\n\n  \nVoor wie is de ladies run: Vanaf 6 jaar kan je meedoen. Loop de ladies run met je dochter of sta aan de start met je vriendinnen of je collega’s.\n\n  \n> LET OP: inschrijven kan tot en met woensdag 1 november 2017  21.00 uur.\n\n \nPROGRAMMA:\nStart: Grote kerkplein:\nWarming up 2.5 km: 19.25 uur\nStart Run 2.5 km: 19.30 uur\nWarming up 5 km: 20.15 uur\nStart Run 5 km: 20.20 uur
URL:https://beweegsaam.nl/agenda-item/zwolse-lades-run/
LOCATION:Grote Kerkplein 10\, Grote Kerkplein 10\, Zwolle\, Overijssel\, Nederland
CATEGORIES:Hardlopen
ATTACH;FMTTYPE=image/jpeg:https://beweegsaam.nl/wp-content/uploads/2017/10/Zwolse_Ladies_Run_Zwolle_Beweegsaam.jpg
END:VEVENT
BEGIN:VEVENT
DTSTART;VALUE=DATE:20171021
DTEND;VALUE=DATE:20171022
DTSTAMP:20260421T221808
CREATED:20160622T111009Z
LAST-MODIFIED:20171017T071345Z
UID:553-1508544000-1508630399@beweegsaam.nl
SUMMARY:STADSHAGENRUN
DESCRIPTION:De StadshagenRun wordt sinds 2008 georganiseerd door de Stichting Loopsport Zwolle en is een jaarlijks sportief hoogtepunt in de jongste wijk van Zwolle. De tiende editie van de EP StadshagenRun wordt zaterdag 21 oktober 2017 gelopen. En ook tijdens deze editie kan jong en oud genieten van het uitdagende parcours. \n  \nStarttijden \n\n\nWarming-up Partou Kids Run: 9.45 uur\n\n\nPartou Kids Run meisjes categorie 6 en 7 jaar: 10:00 uur\n\n\nPartou Kids Run jongens categorie 6 en 7 jaar: 10:08 uur\n\n\nPartou Kids Run meisjes categorie 8 en 9 jaar: 10:16 uur\n\n\nPartou Kids Run jongens categorie 8 en 9 jaar: 10:24 uur\n\n\nPartou Kids Run meisjes categorie 10 tot 12 jaar: 10:32 uur\n\n\nPartou Kids Run jongens categorie 10 tot 12 jaar: 10:32 uur\n\n\nJuniorenRun (1 Engelse Mijl): 10:40 uur\n\n\nTopfit G-Run: 10:50 uur\n\n\nRun2Day 5 kilometer en generatieloop: 11:30 uur\n\n\nSNS ScholierenRun: 11.45 uur\n\n\nLoods038 10 kilometer: 12:30 uur
URL:https://beweegsaam.nl/agenda-item/stadshagenrun/
LOCATION:Twistvlietpark\, Werkerlaan 1\, Zwolle\, Overijssel\, Nederland
CATEGORIES:Hardlopen
ATTACH;FMTTYPE=image/jpeg:https://beweegsaam.nl/wp-content/uploads/2016/06/22528415_1682636341748003_5108685627746945721_n.jpg
END:VEVENT
BEGIN:VEVENT
DTSTART;VALUE=DATE:20170706
DTEND;VALUE=DATE:20170730
DTSTAMP:20260421T221808
CREATED:20170705T101120Z
LAST-MODIFIED:20170712T192556Z
UID:2543-1499299200-1501372799@beweegsaam.nl
SUMMARY:BOOTCAMP KINDERFEESTJE!
DESCRIPTION:Wil jij een sportief feest geven? Dan is een Bootcamp Kinderfeestje iets voor jou!\nGeen popcorn en stilzitten voor de tv\, maar lekker naar buiten en samen bewegen met jouw vriendjes en vriendinnetjes! \nBeweegsaam biedt veelzijdige bootcamps aan\, passend bij jouw wensen. Misschien denk je aan een thema\, specifieke locatie of tijdstip. In overleg is van alles mogelijk. \n  \nWIE: Jongens en meisjes\, vanaf 4 jaar \nDEELNEMERS: Vanaf 8 personen \nWAT: Bootcamp Kinderfeestje! \nWAAR: Locatie in overleg \nTHEMA: In overleg (optioneel) \nTARIEVEN: 1 uur €52\,- euro / 2 uur €79\,- euro \nKLEDING: Sportieve kleding \nWANNEER/TIJD:  \nAgenda tot aan de zomervakantie – Juli 2017 \n\nvr 14  > BEZET \nza 15  >  11:00-12:00\nwo 19  >  12:00-13:30 vrij / 14:00-15:00 BEZET\nvr 21  >  12:00-18:00 \nza 22  >  11:00-16:00 \nwo 26  >  12:00-15:00\nza 29  >  11:00-16:00\n\n  \nRESERVEREN:  \nMail: info@beweegsaam.nl  \nTel: 06 346 933 92 \n  \nWees er snel bij… VOL = VOL!\n  \nRecensie: \nFEEST !!!\nKids\, een bakfiets (vol materiaal)\,  een lokatie (en dat kan echt overal zijn) én een fantastische trainster: Loïs Hofsink.\nBootcamp bij Beweegsaam draait precies om waar het bedrijf voor staat: BEWEEG…SAAM.   \nDat bewegen zit ‘m in goed doordachte en veilige oefeningen. Samen nagenieten en een grote kans dat de kinderen elkaar op school aankijken en hun gezamenlijke ervaring delen; ”heb je ook zo’n spierpijn?”\nMaar Beweegsaam is meer. Beweegsaam is een sociaal evenement waar plezier en beleving de boventoon voert en mensen vooral blij en trots op zichzelf en elkaar zijn om onmogelijke dingen mogelijk te maken.\nNiemand staat buitenspel. We hadden die middag een meisje met haar arm in het gips die zó bij het spel betrokken was\, dat het ook voor haar een prachtige middag werd.\nHet was echt een prachtig beweegfeest!\nT. de Jong\n  \nTot bij de bootcamp!
URL:https://beweegsaam.nl/agenda-item/bootcamp-kinderfeestje/
LOCATION:Overijssel
ATTACH;FMTTYPE=image/jpeg:https://beweegsaam.nl/wp-content/uploads/2017/07/beweegsaam_kinderfeestje.jpg
END:VEVENT
BEGIN:VEVENT
DTSTART;VALUE=DATE:20170625
DTEND;VALUE=DATE:20170626
DTSTAMP:20260421T221808
CREATED:20170513T183103Z
LAST-MODIFIED:20170513T183649Z
UID:2444-1498348800-1498435199@beweegsaam.nl
SUMMARY:ASRENDORP
DESCRIPTION:De AsRENdorp wordt ieder jaar gelopen op de laatste zondag van juni. Dit jaar zal dat zijn op zondag 25 juni 2017\, het betreft de vierde editie van het gezelligste hardloopevenement van Zwolle. \n\n\n\n12.30 uur\n> Warming Up\n\n> Iedereen\n\n\n12.45 uur\n> Start Kids\n800m\n> Meisjes t/m 8 jaar\n\n\n12.55 uur\n> Start Kids\n800m\n> Jongens t/m 8 jaar\n\n\n13.05 uur\n> Start Kids\n1200m\n> 9 t/m 10 jaar\n\n\n13.25 uur\n> Start Kids\n1600m\n> 11 t/m 12 jaar\n\n\n14.15 uur\n> Start 5km\n5km\n> Vanaf 12 jaar\n\n\n15.15 uur\n> Start 10km\n10km\n> Vanaf 16 jaar
URL:https://beweegsaam.nl/agenda-item/asrendorp/
LOCATION:Assendorperplein\, Assendorperplein\, Zwolle\, Overijssel \, Nederland
ATTACH;FMTTYPE=image/jpeg:https://beweegsaam.nl/wp-content/uploads/2016/05/Beweegsaam_AsRENDorp.jpg
END:VEVENT
BEGIN:VEVENT
DTSTART;TZID=Europe/Amsterdam:20170624T110000
DTEND;TZID=Europe/Amsterdam:20170624T120000
DTSTAMP:20260421T221808
CREATED:20170605T073618Z
LAST-MODIFIED:20180612T133126Z
UID:2501-1498302000-1498305600@beweegsaam.nl
SUMMARY:VADERDAG BOOTCAMP!
DESCRIPTION:PAP\, IK DAAG JE UIT! \nVaderdag: Een feestdag ter ere van jouw vader!\nHeb jij al iets bedacht? Nog niet? Dan is deze tip voor jou:\nZaterdag 24 juni beweeg jij samen met je PAP tijdens de ‘VADERDAG BOOTCAMP’! \nWIE: Vaders & kids | vanaf 4 jaar\nWAT: Bootcamp met pap!\nWAAR: Milligerplas\, Stadshagen\nWANNEER: 24 juni 2017 | 11:00-12:00 uur\nKLEDING: Sportief (geen stropdas)\nKOSTEN: Pap €7\,50 | Kids €1\,- p.p.\nAANMELDEN: info@beweegsaam.nl \n \n  \n> Wees op tijd met het bestellen van een ticket. Meld je aan en ontvang jouw ticket vóór vaderdag! \n> De vaders hebben vervolgens nog een week ter voorbereiding op een fanatieke Bootcamp… help jij ze daar een beetje bij? \nGEEF HET DOOR & daag zoveel mogelijk vaders & kids uit. \nTot bij de Bootcamp!
URL:https://beweegsaam.nl/agenda-item/vaderdag-bootcamp/
LOCATION:Milligerplas\, Milligerlaan 2\, Zwolle\, Overijssel\, Nederland
ATTACH;FMTTYPE=image/jpeg:https://beweegsaam.nl/wp-content/uploads/2017/06/beweegsaam_vaderdag2017.jpg
END:VEVENT
BEGIN:VEVENT
DTSTART;VALUE=DATE:20170503
DTEND;VALUE=DATE:20170727
DTSTAMP:20260421T221808
CREATED:20170408T141324Z
LAST-MODIFIED:20170614T070416Z
UID:2322-1493769600-1501113599@beweegsaam.nl
SUMMARY:BEWEEGSAAMPJES!
DESCRIPTION:BEWEEGSAAMPJES > Bootcamp KIDS! \nRennen\, springen\, squaten\, opdrukken en weer doorgaan. Bewegen\, dát willen kids en het liefst elke dag. We gaan aan de slag… iedere woensdagmiddag tot aan de zomervakantie: BOOTCAMP! \n  \nBootcamp voor kinderen geeft enorm veel plezier. Lekker bewegen in de buitenlucht. Eventjes niet voor de tv of tablet (binnen)\, maar samen sporten en spelen met andere kinderen. De kids worden meegenomen in een training vol fanatieke spelletjes\, motorische uitdagingen\, conditie\, samenwerking en natuurlijk worden de spierballen ook getest. Kortom: ze staan niet stil! En het leuke is: ieder kind heeft talent en kan meedoen\, want je doet de oefeningen op je eigen niveau. \nEen les duurt 45 minuten en vindt buiten plaats. Iedere keer is anders en dat maakt het extra leuk en uitdagend. Het belangrijkste is het beleven van plezier en daarbij komen de basisvaardigheden zoals lopen\, rennen\, duwen\, trekken\, springen\, klimmen en klauteren. \n  \nVanaf woensdag 3 mei start Beweegsaampjes. De kids kiezen er voor ‘lid’ te worden en alle lessen aanwezig te zijn. Eventueel losse lessen of later lid worden is ook mogelijk.  \n  \nBen je nieuwsgierig geworden? Meld je dan gauw aan! \n  \nWIE: Jongens en meisjes – groep 3\,4\,5 / groep 6\,7\,8 \nWAT: Beweegsaampjes > Bootcamp KIDS! \nWAAR: Twistvlietpark Stadshagen\, verzamelen ingang Cultuurhuis Stadshagen – Werkerlaan 1 \nWANNEER: Iedere woensdag! \nMei: 3(start!)\, 10\, 17\, 24\, 31 \nJuni: 7\, 14\, 21\, 28 \nJuli: 5\, 12\, 19\, 26 \nTIJD: 16:00-16:45 groep 3\,4\,5 / 17:00-17:45 groep 6\,7\,8 \nDEELNAME: 12 keer €60\,- euro (lid = €5\,- euro per les) \nLOSSE LES: €6\,50 euro \nKADO: Ieder kind ontvangt bij inschrijving iets leuks! \nKLEDING: Sportkleding (jas voor heen/terug) + eigen drinken \n  \nAANMELDEN\n– Ga naar www.beweegsaam.nl > menubalk ‘leden login’.\n– Registreer jouw kind door persoonlijke gegevens in te voeren (graag gegevens van kind voor zover mogelijk\, anders van ouder).\n– Geregistreerd? Log in!\n– Aanmelden: klik op de lessen van Beweegsaampjes om aan te melden. (lichtblauw bolletje 3\,4\,5 / donkerblauw 6\,7\,8)\n– Advies: meld je kind alvast aan voor alle lessen. Tóch niet aanwezig: dan is het mogelijk de les te annuleren. (Via ‘account’/’mijn aanmeldingen’)\n– Online aanmelden/afmelden kan tot een uur van te voren. Anders graag bellen/WhatsApp. In principe alle lessen aanwezig. \n  \nINTRODUCÉ\nIemand meenemen naar Beweegsaampjes? Leuk\, welkom!\nIeder kind mag (1 keer gratis) een introducé meenemen. Daarna wordt het gezien als een losse les. Graag van te voren aangeven.\nMocht het zo zijn dat een kind (vriendje/vriendinnetje) lid wil worden\, dan kan dit in overleg. Losse lessen zijn ook mogelijk. \n  \nCONTACT/VRAGEN\nMail: info@beweegsaam.nl\nTel: 06 346 933 92 \n  \nBeweegsaampjes ziet naar je uit\, tot bij de Bootcamp!
URL:https://beweegsaam.nl/agenda-item/beweegsaampjes/
LOCATION:Twistvlietpark\, Werkerlaan 1\, Zwolle\, Overijssel\, Nederland
CATEGORIES:Bootcamp,kids
END:VEVENT
BEGIN:VEVENT
DTSTART;TZID=Europe/Amsterdam:20170429T104500
DTEND;TZID=Europe/Amsterdam:20170429T114500
DTSTAMP:20260421T221808
CREATED:20170423T211914Z
LAST-MODIFIED:20170424T064809Z
UID:2401-1493462700-1493466300@beweegsaam.nl
SUMMARY:BOOTCAMP > OUDER & KIND!
DESCRIPTION:Meivakantie Bootcamp voor Ouder & kind!\n\nKom gezellig met je vriendjes\, vriendinnetjes\, broer\, zus\, buurvrouw\, neef\, nicht\, kids\, papa & mama … samen!  \nWe gaan er een leuke en sportieve zaterdagochtend van maken. \nWIE: jong en oud\, vanaf 4 jaar \nWAT: Beweegsaam Bootcamp > Ouder & Kind \nWAAR: Kinderopvang Eigen Wijs\, Frankhuizerallee 1c\, Stadshagen \nWANNEER: Zaterdag 29 april\, 10:45-11:45 \nKOSTEN:  €5\,- pp. Samen: dan €4\,- pp. (leden: 1 strip) \n  \nAANMELDEN/CONTACT: info@beweegsaam.nl\, 06 346 933 92\, (Leden Login) \n  \nBeweegsaam ziet naar je uit\, tot bij de Bootcamp!
URL:https://beweegsaam.nl/agenda-item/bootcamp-ouder-kind/
LOCATION:Kinderopvang Eigen Wijs\, Frankhuizerallee 1c\, Zwolle\, Nederland
ATTACH;FMTTYPE=image/jpeg:https://beweegsaam.nl/wp-content/uploads/2017/04/IMG_4013.jpg
END:VEVENT
BEGIN:VEVENT
DTSTART;TZID=Europe/Amsterdam:20160924T123000
DTEND;TZID=Europe/Amsterdam:20160924T123000
DTSTAMP:20260421T221808
CREATED:20160722T130738Z
LAST-MODIFIED:20161021T085508Z
UID:2146-1474720200-1474720200@beweegsaam.nl
SUMMARY:DROGEVOETENRUN
DESCRIPTION:Op zaterdag 24 september wordt voor de vijfde keer in successie de DrogeVoeten Run gehouden. Net als voorgaande jaren is de run ‘voor iedereen’ en staan lol en plezier voorop. De DrogeVoeten Run vindt plaats in het projectgebied van Ruimte voor de Rivier Zwolle en wordt georganiseerd door het Waterschap Drents Overijsselse Delta\, Salland\, aannemer Van den Biggelaar/Ploegam\, hardloopwinkel Run2Day Zwolle en Biologische Schapenmelkerij De Vreugdehoeve. \n\nVan jong tot oud \nDe DrogeVoeten Run is inmiddels een begrip in de regio Zwolle. Vijf jaar geleden begonnen als proef\, gaan ieder jaar de gratis inschrijvingen als warme broodjes over de toonbank. De run heeft een totaal andere opzet dan overige hardloopevenementen: iedereen is welkom\, van jong tot oud. Vaders\, moeders\, kinderen\, opa’s en oma’s\, zelfs hele gezinnen kunnen meedoen. Gehoopt wordt op net zo’n gemêleerd gezelschap als voorgaande jaren. De DrogeVoeten Run is een gezellige loop\, zonder tijdklok en competitie-element\, maar wel met een mooi gratis functioneel hardloopshirt. \nModder aan de poten \nDe route van deze stoere run gaat over onverhard terrein\, door zand\, modder en…..\, misschien moeten de deelnemers ook wat water trotseren. Het rondje loopt dwars door het projectgebied van Ruimte voor de Rivier en is voor iedere deelnemer te doen. De ronde mag zo vaak gelopen worden als men wil. \nDe verzamellocatie is Biologische Schapenmelkerij De Vreugdehoeve en er is plek voor 500 fanatiekelingen. \nSchrijf je snel in door een mail te sturen naar zwolle@run2day.nl. Geef daarin duidelijk aan voor hoeveel personen je inschrijft\, de namen van de deelnemers en de shirtmaten (dit jaar zijn er ook kindermaten beschikbaar). Houd er rekening mee dat de shirts klein kunnen uitvallen en je wellicht een maat groter moet aangeven dan je gewend bent. \nSchminken en springkussen \nNaast het hardloopevenement valt er nog meer te beleven. Mensen die niet meelopen\, kunnen naast aanmoedigen ook voorlichting krijgen over het project Ruimte voor de Rivier Zwolle\, waarmee de IJssel meer ruimte krijgt. Door het graven van geulen en het verleggen van een dijk\, houdt Zwolle droge voeten bij hoogwater op de rivier. Kinderen kunnen zich laten schminken en zich vermaken met een opblaasbare stormbaan\, een springkussen en een ballonnenclown. \nStart is om 12:30 uur\nRondjes van 1\,5 tot 2km welke je gedurende anderhalf uur net zo vaak mag lopen als je wilt
URL:https://beweegsaam.nl/agenda-item/drogevoetenrun/
LOCATION:Biologische Schapenmelkerij De Vreugdehoeve\, Zalkerveerweg 20\, Zwolle\, Overijssel\, 8042PL\, Nederland
CATEGORIES:Hardlopen
ATTACH;FMTTYPE=image/jpeg:https://beweegsaam.nl/wp-content/uploads/2016/07/droge-voeten-run.jpg
END:VEVENT
BEGIN:VEVENT
DTSTART;TZID=Europe/Amsterdam:20160908T194500
DTEND;TZID=Europe/Amsterdam:20160908T194500
DTSTAMP:20260421T221808
CREATED:20160625T182937Z
LAST-MODIFIED:20161021T085509Z
UID:620-1473363900-1473363900@beweegsaam.nl
SUMMARY:BAANLOOP AV PEC
DESCRIPTION:Iedere tweede donderdag in de maand wordt er bij Atletiekvereniging AV PEC 1910 een baanloop gehouden over 5km. Met chip. De wedstrijd is een atletiekunie wedstrijd. Het is vanzelfsprekend een gecertificeerde afstand. De uitslag telt als een handgeklokte uitslag\, ondanks dat je met chip gemeten worden. Er is geen fotofinish apparatuur opgesteld\, daarvoor zijn er een select aantal andere wedstrijden beschikbaar. \nElke deelnemer krijgt een chip op de schoen\, en bij elke passage wordt de tijd vastgelegd. Het is een baanloop\, na 12\,5 rondjes is de laatste registratie en is de uitslag direct bekend. De uitslag met rondetijden wordt geprint en in het clubhuis neergelegd. \nInschrijving is mogelijk vanaf 7 uur in het clubhuis aan de Urksteeg 1\, Zwolle.\nDeelname baanloop is €2\,-(ledenprijs) €3\,-(niet-leden).
URL:https://beweegsaam.nl/agenda-item/baanloop-av-pec/
LOCATION:AV PEC1910\, Urksteeg 1\, Zwolle\, Overijssel\, Nederland
CATEGORIES:Hardlopen
ATTACH;FMTTYPE=image/jpeg:https://beweegsaam.nl/wp-content/uploads/2016/05/Beweegsaam_Baanloop.jpg
END:VEVENT
BEGIN:VEVENT
DTSTART;TZID=Europe/Amsterdam:20160906T190000
DTEND;TZID=Europe/Amsterdam:20160906T190000
DTSTAMP:20260421T221808
CREATED:20160622T110456Z
LAST-MODIFIED:20161021T085509Z
UID:551-1473188400-1473188400@beweegsaam.nl
SUMMARY:SALVERDA BERKUMLOOP
DESCRIPTION:De 26ste editie van de Salverda Berkumloop wordt op dinsdagavond 6 september 2016 gelopen. Op deze avond klinkt om klokslag 19.00 uur voor 1.750 deelnemers het startschot. De inschrijving ging zondagmiddag 12 juni om 12.00 uur van start en ruim anderhalf uur later kon deze alweer worden gesloten. Om 13.58 uur werd de limiet van 1.750 deelnemers bereikt. \n\n\nDe Berkumloop bestaat uit twee onderdelen: 5 en 10 kilometer. Het parcours is gelegen in een fraai landelijk en idyllische omgeving\, in en rondom tuindorp Berkum. In tegenstelling tot de afgelopen edities is er geen wedstrijdloop. Het startschot wordt om 19.00 uur gegeven aan de Erasmuslaan. De deelnemers lopen via de Reviuslaan\, Grotiuslaan\, Boerhaavelaan\, Campherbeeklaan\, Kuyerhuislaan\, Herfterlaan\, Helmhortsweg\, opnieuw Kuyerhuislaan en Campherbeeklaan en tot slot de Lorentzlaan een ronde van 5 kilometer om terug te komen op de Erasmuslaan. De prijsuitreiking is na afloop in wijkcentrum De Weijenbelt. Vlak voor de start van de Berkumloop worden de cheques aan de goede doelen overhandigd. Dat zijn dit jaar Time for Heroes\, De Tower-Snörr’n en Wijkvereniging Berkum. Van alle deelnemers wordt een gedeelte van het inschrijfgeld verdeeld over de drie goede doelen. Daarnaast konden de lopers tijdens het inschrijven een extra bijdrage overmaken.
URL:https://beweegsaam.nl/agenda-item/salverda-berkumloop/
LOCATION:Wijkcentrum De Weijenbelt\, Campherbeeklaan 82\, Zwolle\, Overijssel\, Nederland
CATEGORIES:Hardlopen
ATTACH;FMTTYPE=image/jpeg:https://beweegsaam.nl/wp-content/uploads/2016/05/Beweegsaam_salverda_berkumloop.jpg
END:VEVENT
BEGIN:VEVENT
DTSTART;TZID=Europe/Amsterdam:20160903T150000
DTEND;TZID=Europe/Amsterdam:20160903T150000
DTSTAMP:20260421T221808
CREATED:20160625T182102Z
LAST-MODIFIED:20161021T085509Z
UID:618-1472914800-1472914800@beweegsaam.nl
SUMMARY:PLINQ LOOPFESTIJN DALFSEN
DESCRIPTION:Het sportieve loopevenement met een kidsrun\, 2.5\, 5\, 10 en 21.1 kilometer vindt dit jaar plaats op zaterdag 3 september en start bij de Trefkoele in Dalfsen. Jong en oud\, recreatie en wedstrijdlopers kunnen hieraan deelnemen. \nTijden\nKidsrun start 15:00 uur.\n2\,5 km start 15:30 uur.\n5 km start 15:30 uur.\n10 km start 16:30 uur.\n21\,1 km start 16:30 uur. \nRondom het parcours is het reuze gezellig. Dus kom kijken en moedig de renners aan.
URL:https://beweegsaam.nl/agenda-item/plinq-loopfestijn-dalfsen/
LOCATION:De Trefkoele\, Ruigedoornstraat 108\, Dalfsen\, Overijssel\, Nederland
CATEGORIES:Hardlopen
ATTACH;FMTTYPE=image/jpeg:https://beweegsaam.nl/wp-content/uploads/2016/05/beweegsaam_peperbustocht.jpg
END:VEVENT
BEGIN:VEVENT
DTSTART;TZID=Europe/Amsterdam:20160903T120000
DTEND;TZID=Europe/Amsterdam:20160903T120000
DTSTAMP:20260421T221808
CREATED:20160622T110011Z
LAST-MODIFIED:20161021T085509Z
UID:549-1472904000-1472904000@beweegsaam.nl
SUMMARY:STRONGSISTERRUN HELLENDOORN
DESCRIPTION:Echte Sisters deinzen niet terug voor een pittige sportieve uitdaging. Gezellig wordt het\, want je loopt\, kruipt en klautert met duizenden andere stoere Sisters naar de finish. \n\n\nNatuurlijk blijf je lachen en help je elkaar. Haal je die eindstreep\, dan word je beloond met de StrongSisterRun medaille. Die mag je met opgeheven hoofd dragen!
URL:https://beweegsaam.nl/agenda-item/strongsisterrun-hellendoorn/
LOCATION:Evenementenweide\, Koersendijk\, Nijverdal\, Overijssel\, Nederland
CATEGORIES:Hardlopen,Obstakelrun
ATTACH;FMTTYPE=image/jpeg:https://beweegsaam.nl/wp-content/uploads/2016/05/beweegsaam_strongsisterrunhellendoorn.jpg
END:VEVENT
BEGIN:VEVENT
DTSTART;TZID=Europe/Amsterdam:20160827T110000
DTEND;TZID=Europe/Amsterdam:20160827T110000
DTSTAMP:20260421T221808
CREATED:20160622T103328Z
LAST-MODIFIED:20161021T085509Z
UID:544-1472295600-1472295600@beweegsaam.nl
SUMMARY:CITY SWIM ZWOLLE
DESCRIPTION:Stichting City Swim Zwolle organiseert zaterdag 27 augustus 2016 de derde editie van de Hiawatha City Swim Zwolle\, een zwemevenement in de Zwolse grachten. De tweede editie bracht ruim 22.000 euro op! En ook voor de derde editie wordt elke deelnemer gevraagd mee te helpen een mooi bedrag binnen te halen voor Tegenkracht. \nDe Hiawatha City Swim Zwolle is een zwemtocht van 2\,5 kilometer door de mooiste gracht van Nederland. Er kan zowel individueel als in teamverband deel worden genomen. Dit laatste betekent dat er in een team van drie door elke zwemmer zo’n 850 meter wordt gezwommen.
URL:https://beweegsaam.nl/agenda-item/city-swim-zwolle/
LOCATION:Rode Torenplein Zwolle\, Zwolle\, Overijssel\, Nederland
CATEGORIES:Zwemmen
ATTACH;FMTTYPE=image/jpeg:https://beweegsaam.nl/wp-content/uploads/2016/05/Beweegsaam_cityswimzwolle.jpg
END:VEVENT
BEGIN:VEVENT
DTSTART;TZID=Europe/Amsterdam:20160709T130000
DTEND;TZID=Europe/Amsterdam:20160709T173000
DTSTAMP:20260421T221808
CREATED:20160518T134834Z
LAST-MODIFIED:20161021T085509Z
UID:281-1468069200-1468085400@beweegsaam.nl
SUMMARY:OPENDAG PEC ZWOLLE
DESCRIPTION:Ook deze zomer houdt PEC Zwolle weer de traditionele open dag. Schrijf de datum alvast in jouw agenda want zaterdag 9 juli 2016 ben je van harte welkom op het stadionterrein om deze feestelijke dag mee te maken!
URL:https://beweegsaam.nl/agenda-item/bootcamp/
LOCATION:PEC Zwolle\, Stadionplein 1 \, Zwolle\, Overijssel\, Nederland
CATEGORIES:voetbal
ATTACH;FMTTYPE=image/jpeg:https://beweegsaam.nl/wp-content/uploads/2016/05/Beweegsaam_opendag_peczwolle.jpg
END:VEVENT
END:VCALENDAR