BEGIN:VCALENDAR
VERSION:2.0
PRODID:-//Beweegsaam - ECPv6.15.20//NONSGML v1.0//EN
CALSCALE:GREGORIAN
METHOD:PUBLISH
X-ORIGINAL-URL:https://beweegsaam.nl
X-WR-CALDESC:Evenementen voor Beweegsaam
REFRESH-INTERVAL;VALUE=DURATION:PT1H
X-Robots-Tag:noindex
X-PUBLISHED-TTL:PT1H
BEGIN:VTIMEZONE
TZID:Europe/Amsterdam
BEGIN:DAYLIGHT
TZOFFSETFROM:+0100
TZOFFSETTO:+0200
TZNAME:CEST
DTSTART:20160327T010000
END:DAYLIGHT
BEGIN:STANDARD
TZOFFSETFROM:+0200
TZOFFSETTO:+0100
TZNAME:CET
DTSTART:20161030T010000
END:STANDARD
BEGIN:DAYLIGHT
TZOFFSETFROM:+0100
TZOFFSETTO:+0200
TZNAME:CEST
DTSTART:20170326T010000
END:DAYLIGHT
BEGIN:STANDARD
TZOFFSETFROM:+0200
TZOFFSETTO:+0100
TZNAME:CET
DTSTART:20171029T010000
END:STANDARD
BEGIN:DAYLIGHT
TZOFFSETFROM:+0100
TZOFFSETTO:+0200
TZNAME:CEST
DTSTART:20180325T010000
END:DAYLIGHT
BEGIN:STANDARD
TZOFFSETFROM:+0200
TZOFFSETTO:+0100
TZNAME:CET
DTSTART:20181028T010000
END:STANDARD
BEGIN:DAYLIGHT
TZOFFSETFROM:+0100
TZOFFSETTO:+0200
TZNAME:CEST
DTSTART:20190331T010000
END:DAYLIGHT
BEGIN:STANDARD
TZOFFSETFROM:+0200
TZOFFSETTO:+0100
TZNAME:CET
DTSTART:20191027T010000
END:STANDARD
BEGIN:DAYLIGHT
TZOFFSETFROM:+0100
TZOFFSETTO:+0200
TZNAME:CEST
DTSTART:20200329T010000
END:DAYLIGHT
BEGIN:STANDARD
TZOFFSETFROM:+0200
TZOFFSETTO:+0100
TZNAME:CET
DTSTART:20201025T010000
END:STANDARD
BEGIN:DAYLIGHT
TZOFFSETFROM:+0100
TZOFFSETTO:+0200
TZNAME:CEST
DTSTART:20210328T010000
END:DAYLIGHT
BEGIN:STANDARD
TZOFFSETFROM:+0200
TZOFFSETTO:+0100
TZNAME:CET
DTSTART:20211031T010000
END:STANDARD
BEGIN:DAYLIGHT
TZOFFSETFROM:+0100
TZOFFSETTO:+0200
TZNAME:CEST
DTSTART:20220327T010000
END:DAYLIGHT
BEGIN:STANDARD
TZOFFSETFROM:+0200
TZOFFSETTO:+0100
TZNAME:CET
DTSTART:20221030T010000
END:STANDARD
END:VTIMEZONE
BEGIN:VEVENT
DTSTART;TZID=Europe/Amsterdam:20210918T103000
DTEND;TZID=Europe/Amsterdam:20210918T113000
DTSTAMP:20260422T002200
CREATED:20180202T110549Z
LAST-MODIFIED:20210906T064043Z
UID:2930-1631961000-1631964600@beweegsaam.nl
SUMMARY:BOOTCAMP OUDER & KIND
DESCRIPTION:Bootcamp Ouder & Kind\n\n  \nBeweegsaam nodigt je uit voor Bootcamp ‘Ouder & Kind!’ Een unieke vorm voor jong en ouder om op een sportieve manier plezier te beleven en contact te maken. Kostbare tijd voor en met elkaar. En dat al sportend en spelend!\n\n\n\n  \n\nWIE: Jong en ouder (vanaf 4 jaar) \n\n\n\nWAT: Bootcamp \n\nWANNEER: Zaterdag 18 september 2021 \n\nTIJD: 10:30-11:30 \n\nWAAR: Locatie TalentStad\, Blaloweg 1 \n\nKOSTEN: \nLeden: adhv lidmaatschap\nNiet-leden/kids:  €5\,- p.p. \n> Contant betalen \n\n  \nNodig je vriendjes\, vriendinnetjes\, broer\, zus\, buurvrouw\, neef\, nicht\, papa & mama uit en kom gezellig saam! \n  \n\nAANMELDEN:\nLeden: klik hier \nNiet-leden:\nMail info@beweegsaam.nl\nof App 0634693392\n(vermeld: naam deelnemer(s) en leeftijd) \n> Betaling contant bij de Bootcamp \n  \nTot zaterdag de 18e!
URL:https://beweegsaam.nl/agenda-item/bootcamp-ouder-kind-2/
LOCATION:TalentStad\, Blaloweg 1\, Zwolle\, Overijssel
CATEGORIES:Bootcamp,kids,Zwolle
ATTACH;FMTTYPE=image/jpeg:https://beweegsaam.nl/wp-content/uploads/2018/02/5D9AD76D-8C44-4A28-9EE8-0F61418DC32B-scaled.jpeg
END:VEVENT
BEGIN:VEVENT
DTSTART;TZID=Europe/Amsterdam:20200214T090000
DTEND;TZID=Europe/Amsterdam:20200214T100000
DTSTAMP:20260422T002200
CREATED:20180209T193645Z
LAST-MODIFIED:20200104T114535Z
UID:2961-1581670800-1581674400@beweegsaam.nl
SUMMARY:VALENTIJN BOOTCAMP
DESCRIPTION:Valentijn Bootcamp\n  \n\nBuiten(sport)kansje: ‘zweetdate’ samen me je lief!\n\n  \nOf met iemand die je lief is… zonder kusjes\, vlinders en al dat soort dingen. Waar het om gaat\, is dat jij ervaart hoe leuk het is om samen te sporten. De training staat in het teken van jij & de ander.\nDus neem iemand mee en kom gezellig ‘saam’ zweten tijdens deze Valentijn Bootcamp. Of kom alleen; ook dan ben je natuurlijk van hartje welkom!\n\n\n\n  \n\nWIE: jij & de ander \n\n\n\nWAT: Valentijn Bootcamp \n\nWANNEER: vrijdag 14 februari \n\nTIJD: 09:00-10:00 \n\nWAAR: Westerlaan \n\nKLEDING: sportief \n\n  \n\nAANMELDEN:\nhttps://club.fitmanager.com/activity/booking/1610772 \n  \nTot de 14e!
URL:https://beweegsaam.nl/agenda-item/valentijn-bootcamp/
LOCATION:Westerlaan\, Westerlaan 51\, Zwolle\, Overijssel\, 8011CA\, Nederland
CATEGORIES:Bootcamp
ATTACH;FMTTYPE=image/jpeg:https://beweegsaam.nl/wp-content/uploads/2018/02/F68066DC-3783-47FD-95E5-C4BF9867359D.jpeg
END:VEVENT
BEGIN:VEVENT
DTSTART;TZID=Europe/Amsterdam:20190622T110000
DTEND;TZID=Europe/Amsterdam:20190622T120000
DTSTAMP:20260422T002200
CREATED:20171003T140225Z
LAST-MODIFIED:20190615T114235Z
UID:2741-1561201200-1561204800@beweegsaam.nl
SUMMARY:VADERDAG BOOTCAMP 2019
DESCRIPTION:PAP\, IK DAAG JE UIT!\n  \nVaderdag: Een feestdag ter ere van jouw vader! Heb jij al iets bedacht? Nog niet? Dan is deze tip voor jou: \nZaterdag 22 juni beweeg jij samen met je PAP tijdens de fanatieke VADERDAG BOOTCAMP! \n  \n\nWIE: Vaders & kids | vanaf 4 jaar \n\nWAT: Bootcamp met pap! \n\nWAAR: Milligerplas beachveldje\, Stadshagen \n\nWANNEER: 22 juni 2019 | 11:00-12:00 uur \n\nKLEDING: Sportief (geen stropdas) \n\nMEE: Flesje drinken \n\nKOSTEN: €8\,50 (pap + onbeperkt aantal kids) \n\n  \nAANMELDEN:\nKLIK HIER en meld je aan! \n  \n \n  \nGeef het door & daag zoveel mogelijk vaders & kids uit. \nTot bij de Bootcamp!
URL:https://beweegsaam.nl/agenda-item/vaderdag-bootcamp-2-0/
LOCATION:Milligerplas\, Milligerlaan 2\, Zwolle\, Overijssel\, Nederland
CATEGORIES:Bootcamp,kids,PAP,vaderdag
ATTACH;FMTTYPE=image/jpeg:https://beweegsaam.nl/wp-content/uploads/2017/10/36040210_1950725298272438_6791354583680548864_n.jpg
END:VEVENT
BEGIN:VEVENT
DTSTART;VALUE=DATE:20180418
DTEND;VALUE=DATE:20180719
DTSTAMP:20260422T002200
CREATED:20170815T142458Z
LAST-MODIFIED:20180515T094111Z
UID:2607-1524009600-1531958399@beweegsaam.nl
SUMMARY:BEWEEGSAAMPJES!
DESCRIPTION:BOOTCAMP KIDS\n \nRennen\, springen\, squatten\, opdrukken en weer doorgaan. Bewegen\, dat willen kids en het liefst elke dag. Spelenderwijs gaan we werken aan kracht\, conditie\, balans\, zelfvertrouwen en samenwerkingsoefeningen. Fanatiek in beweging dus: Bootcamp KIDS! En met heel speciaal en nieuw: Beweegsaampjes Bootckamp! \n  \n\nWIE:\nJongens en meisjes \n\nWAT:\nBootcamp KIDS! \n\nTIJDEN: \nGroep 3\,4\,5 > 15:30-16:20\nGroep 6\,7\,8 > 16:30-17:20 \n\nWANNEER: \nWoensdagmiddag\nApril: 18 (gratis proefles)\, 25 (start)\nMei: 16\, 23\, 30\nJuni: (1-2 Bootckamp)\, 6\, 13\, 20\, 27\nJuli: 4\, 11\, 18 \n\nWAAR: \nTwistvlietpark Stadshagen\nWe verzamelen buiten bij de ingang van het Cultuurhuis\, Werkerlaan 1 \n\nPROEFLES: \n€5\,- euro. Word je lid > proefles gratis!\n*18 april is voor ieder kind gratis \n\nTARIEVEN: \nTotaalpakket lessen €55\,- euro \nInbegrepen:\nGratis proefles\, 11 lessen\, gezamenlijke afsluiting\n*Tarief van de lessen is exclusief Bootckamp \nLater lid:\nStroom je in na les 1\, dan betaal je vanaf jouw startdatum het totaalbedrag t/m de laatste les. \n\nBETALING:\nNa aanmelding ontvang je een Tikkie (betaalverzoek). \n\nT-SHIRT KADO: \nIeder (nieuw) lid ontvangt bij inschrijving een Beweegsaampjes t-shirt!\n*bij minimaal 6 keer deelname. \n\nKLEDING: sportkleding (+ drinken) \n\nINTRODUCÉ:\nIemand meenemen naar Beweegsaampjes? Leuk\, welkom!\nEen introducé valt onder ‘proefles/losse les’ en bedraagt €5\,- euro per deelnemer(m.u.v 18 april). Wanneer introducé vervolgens lid wil worden\, dan kan dit en is de proefles gratis!\nHet meenemen van een introducé graag van te voren doorgeven adhv mail of WhatsApp. \n\nBOOTCAMP KAMP:\nKlik hier voor meer info over het Beweegsaampjes Bootckamp! \n\n  \nAANMELDEN BEWEEGSAAMPJES \nMail naar info@beweegsaam.nl onder vermelding van je naam\, leeftijd\, groep\, maat t-shirt en telefoonnummer van ouder/verzorger. \nAANMELDEN LESSEN:\nBen je lid geworden van Beweegsaampjes? Meld je dan online aan voor de lessen.\n– Ga naar www.beweegsaam.nl > menubalk ‘leden login’.\n– Registreer je door jouw persoonlijke gegevens in te voeren (graag gegevens van deelnemer voor zover mogelijk\, anders van ouder/verzorger).\n– Geregistreerd? Log in!\n– Aanmelden: klik op de lessen van Beweegsaampjes om je aan te melden.\n– Advies: meld je alvast aan voor alle lessen. Tóch niet aanwezig: dan is het mogelijk de les te annuleren. (Via ‘account’ > ’mijn aanmeldingen’)\n– Online aanmelden/afmelden kan tot een uur van te voren. Anders graag bellen/WhatsApp. In principe alle lessen aanwezig. \n  \nCONTACT: \nContactformulier\nMail: info@beweegsaam.nl\nTel: 06 346 933 92 \n  \nBeweegsaampjes ziet naar je uit\, tot bij de Bootcamp!
URL:https://beweegsaam.nl/agenda-item/beweegsaampjes-kids/
LOCATION:Twistvlietpark\, Werkerlaan 1\, Zwolle\, Overijssel\, Nederland
CATEGORIES:Bootcamp,kids
ATTACH;FMTTYPE=image/png:https://beweegsaam.nl/wp-content/uploads/2017/08/BC-KIDS-5-1.png
END:VEVENT
BEGIN:VEVENT
DTSTART;VALUE=DATE:20170503
DTEND;VALUE=DATE:20170727
DTSTAMP:20260422T002200
CREATED:20170408T141324Z
LAST-MODIFIED:20170614T070416Z
UID:2322-1493769600-1501113599@beweegsaam.nl
SUMMARY:BEWEEGSAAMPJES!
DESCRIPTION:BEWEEGSAAMPJES > Bootcamp KIDS! \nRennen\, springen\, squaten\, opdrukken en weer doorgaan. Bewegen\, dát willen kids en het liefst elke dag. We gaan aan de slag… iedere woensdagmiddag tot aan de zomervakantie: BOOTCAMP! \n  \nBootcamp voor kinderen geeft enorm veel plezier. Lekker bewegen in de buitenlucht. Eventjes niet voor de tv of tablet (binnen)\, maar samen sporten en spelen met andere kinderen. De kids worden meegenomen in een training vol fanatieke spelletjes\, motorische uitdagingen\, conditie\, samenwerking en natuurlijk worden de spierballen ook getest. Kortom: ze staan niet stil! En het leuke is: ieder kind heeft talent en kan meedoen\, want je doet de oefeningen op je eigen niveau. \nEen les duurt 45 minuten en vindt buiten plaats. Iedere keer is anders en dat maakt het extra leuk en uitdagend. Het belangrijkste is het beleven van plezier en daarbij komen de basisvaardigheden zoals lopen\, rennen\, duwen\, trekken\, springen\, klimmen en klauteren. \n  \nVanaf woensdag 3 mei start Beweegsaampjes. De kids kiezen er voor ‘lid’ te worden en alle lessen aanwezig te zijn. Eventueel losse lessen of later lid worden is ook mogelijk.  \n  \nBen je nieuwsgierig geworden? Meld je dan gauw aan! \n  \nWIE: Jongens en meisjes – groep 3\,4\,5 / groep 6\,7\,8 \nWAT: Beweegsaampjes > Bootcamp KIDS! \nWAAR: Twistvlietpark Stadshagen\, verzamelen ingang Cultuurhuis Stadshagen – Werkerlaan 1 \nWANNEER: Iedere woensdag! \nMei: 3(start!)\, 10\, 17\, 24\, 31 \nJuni: 7\, 14\, 21\, 28 \nJuli: 5\, 12\, 19\, 26 \nTIJD: 16:00-16:45 groep 3\,4\,5 / 17:00-17:45 groep 6\,7\,8 \nDEELNAME: 12 keer €60\,- euro (lid = €5\,- euro per les) \nLOSSE LES: €6\,50 euro \nKADO: Ieder kind ontvangt bij inschrijving iets leuks! \nKLEDING: Sportkleding (jas voor heen/terug) + eigen drinken \n  \nAANMELDEN\n– Ga naar www.beweegsaam.nl > menubalk ‘leden login’.\n– Registreer jouw kind door persoonlijke gegevens in te voeren (graag gegevens van kind voor zover mogelijk\, anders van ouder).\n– Geregistreerd? Log in!\n– Aanmelden: klik op de lessen van Beweegsaampjes om aan te melden. (lichtblauw bolletje 3\,4\,5 / donkerblauw 6\,7\,8)\n– Advies: meld je kind alvast aan voor alle lessen. Tóch niet aanwezig: dan is het mogelijk de les te annuleren. (Via ‘account’/’mijn aanmeldingen’)\n– Online aanmelden/afmelden kan tot een uur van te voren. Anders graag bellen/WhatsApp. In principe alle lessen aanwezig. \n  \nINTRODUCÉ\nIemand meenemen naar Beweegsaampjes? Leuk\, welkom!\nIeder kind mag (1 keer gratis) een introducé meenemen. Daarna wordt het gezien als een losse les. Graag van te voren aangeven.\nMocht het zo zijn dat een kind (vriendje/vriendinnetje) lid wil worden\, dan kan dit in overleg. Losse lessen zijn ook mogelijk. \n  \nCONTACT/VRAGEN\nMail: info@beweegsaam.nl\nTel: 06 346 933 92 \n  \nBeweegsaampjes ziet naar je uit\, tot bij de Bootcamp!
URL:https://beweegsaam.nl/agenda-item/beweegsaampjes/
LOCATION:Twistvlietpark\, Werkerlaan 1\, Zwolle\, Overijssel\, Nederland
CATEGORIES:Bootcamp,kids
END:VEVENT
END:VCALENDAR